BEGIN:VCALENDAR
VERSION:2.0
PRODID:-//Art League of Ocean City MD | Center for the Arts - ECPv5.16.4.1//NONSGML v1.0//EN
CALSCALE:GREGORIAN
METHOD:PUBLISH
X-WR-CALNAME:Art League of Ocean City MD | Center for the Arts
X-ORIGINAL-URL:https://artleagueofoceancity.org
X-WR-CALDESC:Events for Art League of Ocean City MD | Center for the Arts
BEGIN:VTIMEZONE
TZID:America/New_York
BEGIN:DAYLIGHT
TZOFFSETFROM:-0500
TZOFFSETTO:-0400
TZNAME:EDT
DTSTART:20170312T070000
END:DAYLIGHT
BEGIN:STANDARD
TZOFFSETFROM:-0400
TZOFFSETTO:-0500
TZNAME:EST
DTSTART:20171105T060000
END:STANDARD
END:VTIMEZONE
BEGIN:VEVENT
DTSTART;TZID=America/New_York:20171101T090000
DTEND;TZID=America/New_York:20171130T160000
DTSTAMP:20260425T163026
CREATED:20170819T184013Z
LAST-MODIFIED:20171017T193718Z
UID:23854-1509526800-1512057600@artleagueofoceancity.org
SUMMARY:November Exhibits
DESCRIPTION:
URL:https://artleagueofoceancity.org/event/november-exhibits/
END:VEVENT
BEGIN:VEVENT
DTSTART;TZID=America/New_York:20171127T100000
DTEND;TZID=America/New_York:20171127T120000
DTSTAMP:20260425T163026
CREATED:20170819T182702Z
LAST-MODIFIED:20170819T182702Z
UID:23851-1511776800-1511784000@artleagueofoceancity.org
SUMMARY:Artwork Pick Up/ Drop Off
DESCRIPTION:Artists can pick up artwork from November’s Reimagined exhibit and drop off for December’s Members Juried Show (members only\, all media\, 2D or 3D) and Small Works show (half price entry fee\, hanging pieces only\, maximum dimensions 12×12″).
URL:https://artleagueofoceancity.org/event/artwork-pick-drop-off-8/
END:VEVENT
END:VCALENDAR