BEGIN:VCALENDAR
VERSION:2.0
PRODID:-//Art League of Ocean City MD | Center for the Arts - ECPv5.16.4.1//NONSGML v1.0//EN
CALSCALE:GREGORIAN
METHOD:PUBLISH
X-WR-CALNAME:Art League of Ocean City MD | Center for the Arts
X-ORIGINAL-URL:https://artleagueofoceancity.org
X-WR-CALDESC:Events for Art League of Ocean City MD | Center for the Arts
BEGIN:VTIMEZONE
TZID:America/New_York
BEGIN:DAYLIGHT
TZOFFSETFROM:-0500
TZOFFSETTO:-0400
TZNAME:EDT
DTSTART:20170312T070000
END:DAYLIGHT
BEGIN:STANDARD
TZOFFSETFROM:-0400
TZOFFSETTO:-0500
TZNAME:EST
DTSTART:20171105T060000
END:STANDARD
END:VTIMEZONE
BEGIN:VEVENT
DTSTART;TZID=America/New_York:20171201T090000
DTEND;TZID=America/New_York:20171201T160000
DTSTAMP:20260425T211832
CREATED:20170916T164812Z
LAST-MODIFIED:20170916T165027Z
UID:24194-1512118800-1512144000@artleagueofoceancity.org
SUMMARY:Submission Deadline for OC Film Festival
DESCRIPTION:Dates and Deadlines: \nSeptember 1\, 2017: Entry window opens\nDecember 1\, 2017: Regular deadline\nJanuary 1\, 2018: Late deadline\nJanuary 31\, 2018: Notice of acceptance\nMarch 9-11\, 2018: Film Festival \nTo submit your film\, go to: filmfreeway.com/festival/oceancityfilmfestival
URL:https://artleagueofoceancity.org/event/submission-deadline-oc-film-festival/
CATEGORIES:Events
ATTACH;FMTTYPE=image/png:/app/uploads/2017/04/OC-film-reelsWEB.png
END:VEVENT
BEGIN:VEVENT
DTSTART;TZID=America/New_York:20171201T090000
DTEND;TZID=America/New_York:20171230T040000
DTSTAMP:20260425T211832
CREATED:20171027T180214Z
LAST-MODIFIED:20171115T200527Z
UID:23856-1512118800-1514606400@artleagueofoceancity.org
SUMMARY:December Exhibits
DESCRIPTION:
URL:https://artleagueofoceancity.org/event/december-exhibits/
END:VEVENT
BEGIN:VEVENT
DTSTART;TZID=America/New_York:20171201T170000
DTEND;TZID=America/New_York:20171201T190000
DTSTAMP:20260425T211832
CREATED:20170916T160013Z
LAST-MODIFIED:20170916T160109Z
UID:24181-1512147600-1512154800@artleagueofoceancity.org
SUMMARY:Holiday Artisan Fair
DESCRIPTION:Join us for this special showcase of local artisans in time for the holidays! Browse through a variety of unique\, handmade items including jewelry\, glass\, ceramics\, and more. Enjoy live music\, refreshments\, and book signings with local artists and authors. Free admission. Friday 5-7pm\, Saturday 11-4pm.
URL:https://artleagueofoceancity.org/event/holiday-artisan-fair/
CATEGORIES:Events
ATTACH;FMTTYPE=image/jpeg:/app/uploads/2017/09/ArtisanFairMitziAshWEB.jpg
END:VEVENT
END:VCALENDAR