BEGIN:VCALENDAR
VERSION:2.0
PRODID:-//Art League of Ocean City MD | Center for the Arts - ECPv5.16.4.1//NONSGML v1.0//EN
CALSCALE:GREGORIAN
METHOD:PUBLISH
X-WR-CALNAME:Art League of Ocean City MD | Center for the Arts
X-ORIGINAL-URL:https://artleagueofoceancity.org
X-WR-CALDESC:Events for Art League of Ocean City MD | Center for the Arts
BEGIN:VTIMEZONE
TZID:America/New_York
BEGIN:DAYLIGHT
TZOFFSETFROM:-0500
TZOFFSETTO:-0400
TZNAME:EDT
DTSTART:20180311T070000
END:DAYLIGHT
BEGIN:STANDARD
TZOFFSETFROM:-0400
TZOFFSETTO:-0500
TZNAME:EST
DTSTART:20181104T060000
END:STANDARD
END:VTIMEZONE
BEGIN:VEVENT
DTSTART;TZID=America/New_York:20180402T090000
DTEND;TZID=America/New_York:20180428T160000
DTSTAMP:20260425T125508
CREATED:20171226T185418Z
LAST-MODIFIED:20180325T164527Z
UID:25380-1522659600-1524931200@artleagueofoceancity.org
SUMMARY:April Exhibits
DESCRIPTION:
URL:https://artleagueofoceancity.org/event/april-exhibits-2/
END:VEVENT
BEGIN:VEVENT
DTSTART;TZID=America/New_York:20180407T110000
DTEND;TZID=America/New_York:20180408T160000
DTSTAMP:20260425T125508
CREATED:20171013T180155Z
LAST-MODIFIED:20180317T201217Z
UID:24514-1523098800-1523203200@artleagueofoceancity.org
SUMMARY:Manga + Anime Youth Art Show 2018
DESCRIPTION:Students from Worcester\, Wicomico\, Somerset and Sussex counties will showcase their artwork for one weekend at the OC Center for the Arts on 94th St. in Ocean City MD. Click here for information on how to enter artwork. The purpose of this event is to encourage creativity and spread awareness of Manga and Anime as a true art form!  Cash prizes awarded on the basis of creativity\, originality\, and artistic merit. Opening Reception: Friday April 6\, 5-7pm.\n\nThe Spotlight Gallery will be featuring artwork by Brad Hudson and the artists of PLB Comics. Both Brad and PLB Comics will be teaching free workshops during the opening weekend! \nSaturday\, April 7 from 1-3pm: Creating Comics! with Mathew Shockley\, Josh Shockley and James Dufendach. This is a FREE two hour seminar in how to make your own comic. From inception to completing\, PLB’s writers and artists will guide attendees trough crafting riveting stories\, page layout\, drawing\, inking\, editing and lettering. You will learn all the skills you need to create your own comic book. For kids 12 and up. Click here to register. \nSunday\, April 8 from 1-3pm: Elementary Comic Book Storytelling with Brad Hudson. This is a FREE brief seminar in basic storytelling true comic illustrations. Participants will illustrate a simple story on one page. This is a wonderful opportunity for teens and young adults to show how you start and structure your short stories in comics. This class is for kids 12 and up. Click here to register.
URL:https://artleagueofoceancity.org/event/manga-anime-youth-art-show-2/
CATEGORIES:Events
ATTACH;FMTTYPE=image/jpeg:/app/uploads/2017/10/Anime-artwork-web-banner.jpg
END:VEVENT
END:VCALENDAR