BEGIN:VCALENDAR
VERSION:2.0
PRODID:-//Art League of Ocean City MD | Center for the Arts - ECPv5.16.4.1//NONSGML v1.0//EN
CALSCALE:GREGORIAN
METHOD:PUBLISH
X-WR-CALNAME:Art League of Ocean City MD | Center for the Arts
X-ORIGINAL-URL:https://artleagueofoceancity.org
X-WR-CALDESC:Events for Art League of Ocean City MD | Center for the Arts
BEGIN:VTIMEZONE
TZID:America/New_York
BEGIN:DAYLIGHT
TZOFFSETFROM:-0500
TZOFFSETTO:-0400
TZNAME:EDT
DTSTART:20180311T070000
END:DAYLIGHT
BEGIN:STANDARD
TZOFFSETFROM:-0400
TZOFFSETTO:-0500
TZNAME:EST
DTSTART:20181104T060000
END:STANDARD
END:VTIMEZONE
BEGIN:VEVENT
DTSTART;TZID=America/New_York:20180501T090000
DTEND;TZID=America/New_York:20180526T160000
DTSTAMP:20260425T113202
CREATED:20180211T204201Z
LAST-MODIFIED:20180421T193448Z
UID:25614-1525165200-1527350400@artleagueofoceancity.org
SUMMARY:May Exhibits
DESCRIPTION:
URL:https://artleagueofoceancity.org/event/may-exhibits-2/
END:VEVENT
BEGIN:VEVENT
DTSTART;TZID=America/New_York:20180523T130000
DTEND;TZID=America/New_York:20180523T160000
DTSTAMP:20260425T113202
CREATED:20180421T192856Z
LAST-MODIFIED:20180421T192856Z
UID:26438-1527080400-1527091200@artleagueofoceancity.org
SUMMARY:Public Art Project: Screen Painting
DESCRIPTION:Participate in a public art project for display on the 94th St. tennis courts this summer! \nThe art of Baltimore screen painting comes to Ocean City as part of a community art project with the theme “Our Eastern Shore Habitat.” Artist in residence John Iampieri is spearheading the project and will set up Studio E as a working space for the month of May so the public can contribute to the paintings. Open painting sessions are scheduled for: \nFirst Friday\, May 4\, from 5-7 p.m.; Wednesday\, May 23\, from 1-4 p.m.; Friday\, May 25\, from 10 a.m.–3 p.m.; and Tuesday\, May 29\, from 10 a.m.-3 p.m. \nAnyone who wishes to participate or watch the work is welcome to walk in! In June\, the painted mural screens will move next door from the Arts Center to the fences of the tennis courts for display throughout the summer season.
URL:https://artleagueofoceancity.org/event/public-art-project-screen-painting-2/
CATEGORIES:Events
END:VEVENT
END:VCALENDAR