BEGIN:VCALENDAR
VERSION:2.0
PRODID:-//Art League of Ocean City MD | Center for the Arts - ECPv5.16.4.1//NONSGML v1.0//EN
CALSCALE:GREGORIAN
METHOD:PUBLISH
X-WR-CALNAME:Art League of Ocean City MD | Center for the Arts
X-ORIGINAL-URL:https://artleagueofoceancity.org
X-WR-CALDESC:Events for Art League of Ocean City MD | Center for the Arts
BEGIN:VTIMEZONE
TZID:America/New_York
BEGIN:DAYLIGHT
TZOFFSETFROM:-0500
TZOFFSETTO:-0400
TZNAME:EDT
DTSTART:20180311T070000
END:DAYLIGHT
BEGIN:STANDARD
TZOFFSETFROM:-0400
TZOFFSETTO:-0500
TZNAME:EST
DTSTART:20181104T060000
END:STANDARD
END:VTIMEZONE
BEGIN:VEVENT
DTSTART;TZID=America/New_York:20180907T170000
DTEND;TZID=America/New_York:20180907T210000
DTSTAMP:20260425T121150
CREATED:20171226T170524Z
LAST-MODIFIED:20180714T185213Z
UID:25358-1536339600-1536354000@artleagueofoceancity.org
SUMMARY:First Friday Opening Reception for September Exhibits
DESCRIPTION:Extended Hours! Meet the artists\, enjoy hors d’oeuvres\, and see the new exhibits featuring “SHE” curated by Deborah Rolig. In conjunction with the opening reception\, the Artisan Marketplace will open at 5pm\, featuring a variety of handcrafted wares from local artisans. Admission is free.
URL:https://artleagueofoceancity.org/event/first-friday-opening-reception-september-exhibits-2/
CATEGORIES:Events
END:VEVENT
BEGIN:VEVENT
DTSTART;TZID=America/New_York:20180907T170000
DTEND;TZID=America/New_York:20180909T160000
DTSTAMP:20260425T121150
CREATED:20180817T185536Z
LAST-MODIFIED:20180817T190201Z
UID:124048-1536339600-1536508800@artleagueofoceancity.org
SUMMARY:Images and Expressions: MD Women in the Arts display
DESCRIPTION:The exhibit Images and Expressions: Maryland Women in the Arts reflects creative women who have pioneered and enhanced our valuing of and engagement with the Arts. See this special one-weekend-only display brought to you by the MD Women’s Heritage Center. Click here for more.
URL:https://artleagueofoceancity.org/event/images-and-expressions-md-women-in-the-arts-display/
CATEGORIES:Events
ATTACH;FMTTYPE=image/jpeg:/app/uploads/2018/08/MD-Womens-Heritage-Center.jpg
END:VEVENT
END:VCALENDAR