BEGIN:VCALENDAR
VERSION:2.0
PRODID:-//Art League of Ocean City MD | Center for the Arts - ECPv5.16.4.1//NONSGML v1.0//EN
CALSCALE:GREGORIAN
METHOD:PUBLISH
X-WR-CALNAME:Art League of Ocean City MD | Center for the Arts
X-ORIGINAL-URL:https://artleagueofoceancity.org
X-WR-CALDESC:Events for Art League of Ocean City MD | Center for the Arts
BEGIN:VTIMEZONE
TZID:America/New_York
BEGIN:DAYLIGHT
TZOFFSETFROM:-0500
TZOFFSETTO:-0400
TZNAME:EDT
DTSTART:20180311T070000
END:DAYLIGHT
BEGIN:STANDARD
TZOFFSETFROM:-0400
TZOFFSETTO:-0500
TZNAME:EST
DTSTART:20181104T060000
END:STANDARD
END:VTIMEZONE
BEGIN:VEVENT
DTSTART;TZID=America/New_York:20181001T090000
DTEND;TZID=America/New_York:20181028T160000
DTSTAMP:20260421T175714
CREATED:20180910T174758Z
LAST-MODIFIED:20180924T141110Z
UID:134792-1538384400-1540742400@artleagueofoceancity.org
SUMMARY:October Exhibits
DESCRIPTION:
URL:https://artleagueofoceancity.org/event/october-exhibits-2/
END:VEVENT
BEGIN:VEVENT
DTSTART;TZID=America/New_York:20181005T170000
DTEND;TZID=America/New_York:20181005T190000
DTSTAMP:20260421T175714
CREATED:20171226T170613Z
LAST-MODIFIED:20171226T170613Z
UID:25360-1538758800-1538766000@artleagueofoceancity.org
SUMMARY:First Friday Opening Reception for October Exhibits
DESCRIPTION:Meet the artists\, enjoy hors d’oeuvres\, and see the new exhibits featuring a variety of local artists. Complimentary refreshments will be served and admission is free.
URL:https://artleagueofoceancity.org/event/first-friday-opening-reception-october-exhibits/
CATEGORIES:Events
END:VEVENT
BEGIN:VEVENT
DTSTART;TZID=America/New_York:20181005T193000
DTEND;TZID=America/New_York:20181005T203000
DTSTAMP:20260421T175714
CREATED:20181002T172410Z
LAST-MODIFIED:20181004T174038Z
UID:135041-1538767800-1538771400@artleagueofoceancity.org
SUMMARY:Originals Only
DESCRIPTION:Enjoy live original music by local musicians\, following the First Friday Opening Reception! Music starts at 7:30pm. FREE. Coffee provided!
URL:https://artleagueofoceancity.org/event/originals-only-17/
CATEGORIES:Events
ATTACH;FMTTYPE=image/jpeg:/app/uploads/2017/05/Originals-Only-Zoe-Koch-WEB-slider.jpg
END:VEVENT
END:VCALENDAR