BEGIN:VCALENDAR
VERSION:2.0
PRODID:-//Art League of Ocean City MD | Center for the Arts - ECPv5.16.4.1//NONSGML v1.0//EN
CALSCALE:GREGORIAN
METHOD:PUBLISH
X-WR-CALNAME:Art League of Ocean City MD | Center for the Arts
X-ORIGINAL-URL:https://artleagueofoceancity.org
X-WR-CALDESC:Events for Art League of Ocean City MD | Center for the Arts
BEGIN:VTIMEZONE
TZID:America/New_York
BEGIN:DAYLIGHT
TZOFFSETFROM:-0500
TZOFFSETTO:-0400
TZNAME:EDT
DTSTART:20240310T070000
END:DAYLIGHT
BEGIN:STANDARD
TZOFFSETFROM:-0400
TZOFFSETTO:-0500
TZNAME:EST
DTSTART:20241103T060000
END:STANDARD
END:VTIMEZONE
BEGIN:VEVENT
DTSTART;TZID=America/New_York:20240202T090000
DTEND;TZID=America/New_York:20240224T160000
DTSTAMP:20260425T150020
CREATED:20231231T173414Z
LAST-MODIFIED:20240129T170645Z
UID:501858-1706864400-1708790400@artleagueofoceancity.org
SUMMARY:February 2024 Exhibits
DESCRIPTION:
URL:https://artleagueofoceancity.org/event/february-2024-exhibits/
CATEGORIES:Exhibits
END:VEVENT
END:VCALENDAR